BEGIN:VCALENDAR
VERSION:2.0
PRODID:spatie/icalendar-generator
DESCRIPTION:Events from Skagit Adult Day Program
X-WR-CALDESC:Events from Skagit Adult Day Program
REFRESH-INTERVAL;VALUE=DURATION:PT1440M
X-PUBLISHED-TTL:PT1440M
BEGIN:VTIMEZONE
TZID:America/Los_Angeles
BEGIN:STANDARD
DTSTART:20251102T020000Z
TZOFFSETFROM:-0700
TZOFFSETTO:-0800
END:STANDARD
BEGIN:DAYLIGHT
DTSTART:20260308T020000Z
TZOFFSETFROM:-0800
TZOFFSETTO:-0700
END:DAYLIGHT
END:VTIMEZONE
BEGIN:VTIMEZONE
TZID:UTC
BEGIN:STANDARD
DTSTART:20250728T153332Z
TZOFFSETFROM:+0000
TZOFFSETTO:+0000
END:STANDARD
END:VTIMEZONE
BEGIN:VEVENT
UID:244-10
DTSTAMP:20260424T153332Z
SUMMARY:Lunch &amp;amp\; Learn
LOCATION:Burlington Senior Center 1011 Greenleaf Avenue  Burlington WA 9823
 3
ORGANIZER;CN=Gavin:MAILTO:gavin@skagitadultdayprogram.org
DTSTART;TZID=America/Los_Angeles:20260427T120000
DTEND;TZID=America/Los_Angeles:20260427T140000
X-ALT-DESC;FMTTYPE=TEXT/HTML:Please RSVP Leigh Ann at (360) 755-1235 if you
  plan to attend. We invite local experts to share knowledge and insights o
 ver a light home-made lunch. Guest speakers cover a broad range of caregiv
 er-related topics spanning medical\, legal\, and social issues.
CATEGORIES:General
URL;VALUE=URI:https://skagitadultdayprogram.org/mc-events/lunch-learn/
METHOD:PUBLISH
END:VEVENT
END:VCALENDAR