BEGIN:VCALENDAR
VERSION:2.0
PRODID:spatie/icalendar-generator
DESCRIPTION:Events from Skagit Adult Day Program
X-WR-CALDESC:Events from Skagit Adult Day Program
REFRESH-INTERVAL;VALUE=DURATION:PT1440M
X-PUBLISHED-TTL:PT1440M
BEGIN:VTIMEZONE
TZID:America/Los_Angeles
BEGIN:STANDARD
DTSTART:20251102T020000Z
TZOFFSETFROM:-0700
TZOFFSETTO:-0800
END:STANDARD
BEGIN:DAYLIGHT
DTSTART:20260308T020000Z
TZOFFSETFROM:-0800
TZOFFSETTO:-0700
END:DAYLIGHT
BEGIN:STANDARD
DTSTART:20261101T020000Z
TZOFFSETFROM:-0700
TZOFFSETTO:-0800
END:STANDARD
END:VTIMEZONE
BEGIN:VTIMEZONE
TZID:UTC
BEGIN:STANDARD
DTSTART:20250728T152600Z
TZOFFSETFROM:+0000
TZOFFSETTO:+0000
END:STANDARD
END:VTIMEZONE
BEGIN:VEVENT
UID:225-4
DTSTAMP:20260424T152600Z
SUMMARY:Caregiver Support Group
LOCATION:Burlington Senior Center 1011 Greenleaf Avenue  Burlington WA 9823
 3
ORGANIZER;CN=Gavin:MAILTO:gavin@skagitadultdayprogram.org
DTSTART;TZID=America/Los_Angeles:20260513T133000
DTEND;TZID=America/Los_Angeles:20260513T150000
X-ALT-DESC;FMTTYPE=TEXT/HTML:Our support groups offer a safe and supportive
  environment to share and learn from other caregivers. 2nd and 4th Wednesd
 ay of the month 1:30 to 3:00 p.m.
CATEGORIES:General
URL;VALUE=URI:https://skagitadultdayprogram.org/mc-events/caregiver-support
 -group-2/
METHOD:PUBLISH
END:VEVENT
END:VCALENDAR